BEGIN:VCALENDAR
CALSCALE:GREGORIAN
METHOD:PUBLISH
VERSION:2.0
BEGIN:VEVENT
DTSTAMP:20260424T180124
STATUS:CONFIRMED
UID:2026-06-02-tpc26-at-lrz@mcml.ai
DTSTART:20260602T093000
DTEND:20260602T183000
SUMMARY:Plenary Sessions--The Trillion Parameter Consortium--
DESCRIPTION:*** Plenary Sessions\n*** The Trillion Parameter Consortium\n*** Satellite Event at LRZ\n\n02.06.26, 9:30 am - 6:30 pm: Satellite Event at LRZ - The Trillion Parameter Consortium\n\nMore info: https://tpc26.org/satellite-event/lrz/
LOCATION:Leibniz Supercomputing Centre (LRZ)\, Boltzmannstraße 1\, 85748 Garching
END:VEVENT
END:VCALENDAR