BEGIN:VCALENDAR
CALSCALE:GREGORIAN
METHOD:PUBLISH
VERSION:2.0
BEGIN:VEVENT
DTSTAMP:20260422T173118
STATUS:CONFIRMED
UID:2026-05-22-pitchtalks-reply@mcml.ai
DTSTART:20260522T160000
DTEND:20260522T200000
SUMMARY:Pitchtalk Series--MCML Pitchtalks With Reply--
DESCRIPTION:*** Pitchtalk Series\n*** MCML Pitchtalks With Reply\n*** Join Us for Networking and Insights\n\n*** Organized by:\nThomas Meier\, MCML\n\nOn May 22, we will host the next MCML Pitchtalks in collaboration with Reply.\n\nMore info: https://mcml.ai/events/2026-05-22-pitchtalks-reply/
LOCATION:Luise-Ullrich-Strasse 14\, Munich (close to Donnersbergerbrücke)
END:VEVENT
END:VCALENDAR