BEGIN:VCALENDAR
CALSCALE:GREGORIAN
METHOD:PUBLISH
VERSION:2.0
BEGIN:VEVENT
DTSTAMP:20260424T152132
STATUS:CONFIRMED
UID:2026-04-29-stat-colloquium@mcml.ai
DTSTART:20260429T161500
DTEND:20260429T174500
SUMMARY:Colloquium--Addressing an Extreme Positivity Violation to Distinguish the Causal Effects of Surgery  and Anesthesia via Separable Effects--
DESCRIPTION:*** Colloquium\n*** Addressing an Extreme Positivity Violation to Distinguish the Causal Effects of Surgery  and Anesthesia via Separable Effects\n\n*** Speaker(s):\nCaleb Miles\, Columbia University\n\n29.04.26, 4:15-5:45 pm: Caleb Miles from the Columbia University\n\nMore info: https://www.stat.lmu.de/en/research/colloquium-of-the-department/
LOCATION:LMU Munich\, Department of Statistics and via zoom
END:VEVENT
END:VCALENDAR