BEGIN:VCALENDAR
CALSCALE:GREGORIAN
METHOD:PUBLISH
VERSION:2.0
BEGIN:VEVENT
DTSTAMP:20260422T212115
STATUS:CONFIRMED
UID:2026-04-28-pitchtalks-munich-nlp@mcml.ai
DTSTART:20260428T171500
DTEND:20260428T203000
SUMMARY:Pitchtalk Series--MCML Pitchtalks With Munich NLP--
DESCRIPTION:*** Pitchtalk Series\n*** MCML Pitchtalks With Munich NLP\n*** Join Us for Networking and Insights\n\n*** Organized by:\nThomas Meier\, MCML\n\nOn April 28, we will host the next MCML Pitchtalks in collaboration with Munich NLP.\n\nMore info: https://mcml.ai/events/2026-04-28-pitchtalks-munich-nlp/
LOCATION:Oettingenstraße 67\, Room 151
END:VEVENT
END:VCALENDAR