BEGIN:VCALENDAR
CALSCALE:GREGORIAN
METHOD:PUBLISH
VERSION:2.0
BEGIN:VEVENT
DTSTAMP:20260424T152132
STATUS:CONFIRMED
UID:2026-04-15-stat-colloquium@mcml.ai
DTSTART:20260415T161500
DTEND:20260415T174500
SUMMARY:Colloquium--Machine Learning at the Edge of Ignorance--
DESCRIPTION:*** Colloquium\n*** Machine Learning at the Edge of Ignorance\n\n*** Speaker(s):\nKrikamol Muandet\, CISPA Helmholtz Center for Information Security\n\n15.04.26, 4:15-5:45 pm: Krikamol Muandet from CISPA Helmholtz Center for Information Security\n\nMore info: https://www.stat.lmu.de/en/research/colloquium-of-the-department/
LOCATION:LMU Munich\, Department of Statistics and via zoom
END:VEVENT
END:VCALENDAR